BEGIN:VCALENDAR
VERSION:2.0
PRODID:-//Missouri Heart Gallery - ECPv6.15.20//NONSGML v1.0//EN
CALSCALE:GREGORIAN
METHOD:PUBLISH
X-WR-CALNAME:Missouri Heart Gallery
X-ORIGINAL-URL:https://moheartgallery.org
X-WR-CALDESC:Events for Missouri Heart Gallery
REFRESH-INTERVAL;VALUE=DURATION:PT1H
X-Robots-Tag:noindex
X-PUBLISHED-TTL:PT1H
BEGIN:VTIMEZONE
TZID:America/Chicago
BEGIN:DAYLIGHT
TZOFFSETFROM:-0600
TZOFFSETTO:-0500
TZNAME:CDT
DTSTART:20230312T080000
END:DAYLIGHT
BEGIN:STANDARD
TZOFFSETFROM:-0500
TZOFFSETTO:-0600
TZNAME:CST
DTSTART:20231105T070000
END:STANDARD
BEGIN:DAYLIGHT
TZOFFSETFROM:-0600
TZOFFSETTO:-0500
TZNAME:CDT
DTSTART:20240310T080000
END:DAYLIGHT
BEGIN:STANDARD
TZOFFSETFROM:-0500
TZOFFSETTO:-0600
TZNAME:CST
DTSTART:20241103T070000
END:STANDARD
BEGIN:DAYLIGHT
TZOFFSETFROM:-0600
TZOFFSETTO:-0500
TZNAME:CDT
DTSTART:20250309T080000
END:DAYLIGHT
BEGIN:STANDARD
TZOFFSETFROM:-0500
TZOFFSETTO:-0600
TZNAME:CST
DTSTART:20251102T070000
END:STANDARD
END:VTIMEZONE
BEGIN:VEVENT
DTSTART;TZID=America/Chicago:20241109T180000
DTEND;TZID=America/Chicago:20241109T210000
DTSTAMP:20260424T153338
CREATED:20241017T201213Z
LAST-MODIFIED:20241017T201213Z
UID:4277-1731175200-1731186000@moheartgallery.org
SUMMARY:Sound of Hope: The Story of Possum Trot Film Showing
DESCRIPTION:*The movie is PG-13 and may not be suitable for some of the younger viewers.\n\n*No childcare will be provided.\n\n 
URL:https://moheartgallery.org/event/sound-of-hope-the-story-of-possum-trot-film-showing/
LOCATION:LaCroix Church\, 3102 Lexington Ave.\, Cape Girardeau\, MO\, 63701\, United States
ORGANIZER;CN="Robert Thornburgh":MAILTO:Robert.Thornburgh@dss.mo.gov
END:VEVENT
END:VCALENDAR